BEGIN:VCALENDAR
VERSION:2.0
PRODID:-//Asian Family Support Services of Austin (AFSSA) - ECPv6.15.18//NONSGML v1.0//EN
CALSCALE:GREGORIAN
METHOD:PUBLISH
X-WR-CALNAME:Asian Family Support Services of Austin (AFSSA)
X-ORIGINAL-URL:https://www.afssaustin.org
X-WR-CALDESC:Events for Asian Family Support Services of Austin (AFSSA)
REFRESH-INTERVAL;VALUE=DURATION:PT1H
X-Robots-Tag:noindex
X-PUBLISHED-TTL:PT1H
BEGIN:VTIMEZONE
TZID:America/Chicago
BEGIN:DAYLIGHT
TZOFFSETFROM:-0600
TZOFFSETTO:-0500
TZNAME:CDT
DTSTART:20220313T080000
END:DAYLIGHT
BEGIN:STANDARD
TZOFFSETFROM:-0500
TZOFFSETTO:-0600
TZNAME:CST
DTSTART:20221106T070000
END:STANDARD
BEGIN:DAYLIGHT
TZOFFSETFROM:-0600
TZOFFSETTO:-0500
TZNAME:CDT
DTSTART:20230312T080000
END:DAYLIGHT
BEGIN:STANDARD
TZOFFSETFROM:-0500
TZOFFSETTO:-0600
TZNAME:CST
DTSTART:20231105T070000
END:STANDARD
BEGIN:DAYLIGHT
TZOFFSETFROM:-0600
TZOFFSETTO:-0500
TZNAME:CDT
DTSTART:20240310T080000
END:DAYLIGHT
BEGIN:STANDARD
TZOFFSETFROM:-0500
TZOFFSETTO:-0600
TZNAME:CST
DTSTART:20241103T070000
END:STANDARD
END:VTIMEZONE
BEGIN:VEVENT
DTSTART;TZID=America/Chicago:20230121T043000
DTEND;TZID=America/Chicago:20230121T080000
DTSTAMP:20260425T205606
CREATED:20230110T002627Z
LAST-MODIFIED:20230110T003733Z
UID:3185-1674275400-1674288000@www.afssaustin.org
SUMMARY:Color\, Music and Motion: A Lunar New Year Celebration
DESCRIPTION:Join AFSSA at Terrazas to witness an exciting performance of Color\, Music & Motion by Chinese school of dance\, The Love of China! The event will kickoff with storytime and will feature various crafts related to the Lunar New Year. Each activity station highlights an aspect of Chinese culture and brings awareness to the traditions connected to Lunar New Year. It will end with a traditional Chinese Dance followed by a Lion Dance\, so we hope to see you there!
URL:https://www.afssaustin.org/event/color-music-and-motion-a-lunar-new-year-celebration/
LOCATION:Terrazas Branch\, Austin Public Library\, 1105 East Cesar Chavez Street\, Austin\, Texas\, 78702
END:VEVENT
BEGIN:VEVENT
DTSTART;TZID=America/Chicago:20230121T050000
DTEND;TZID=America/Chicago:20230121T110000
DTSTAMP:20260425T205606
CREATED:20230110T001206Z
LAST-MODIFIED:20230110T003509Z
UID:3181-1674277200-1674298800@www.afssaustin.org
SUMMARY:Kaiju Cut & Sew + Austin Beerworks - Lunar New Years Event
DESCRIPTION:Join AFSSA for a Lunar New Years celebration by Kaiju Cut & Sew and Austin Beerworks to celebrate the Lunar New Year! \nThe event will be benefitting AFSSA and will feature the release of a collaboration brew with Meanwhile Brewing and Kaiju Cut + Sew. The ABW Can-tina will offer an Asian inspired menu curated by Head Chef\, Enma Lopez. Chopsticks\, an Asian Fusion Cuisine Food Truck will be set up to offer you plenty of delicious food options.\nAustin Flea will be set up from 11am to 5pm with featuring a ton of local vendors. The Summit Lion-Dragon Dance team will perform at noon!
URL:https://www.afssaustin.org/event/kaiju-cut-sew-austin-beerworks-lunar-new-years-event/
LOCATION:Austin Beerworks\, 3001 Industrial Terrace\, Austin\, TX\, 78758\, United States
ATTACH;FMTTYPE=image/png:https://www.afssaustin.org/wp-content/uploads/2023/01/Kaiju-Cut-Sew-LNY-Event.png
END:VEVENT
END:VCALENDAR