BEGIN:VCALENDAR
VERSION:2.0
PRODID:-//Asian Family Support Services of Austin (AFSSA) - ECPv6.15.18//NONSGML v1.0//EN
CALSCALE:GREGORIAN
METHOD:PUBLISH
X-WR-CALNAME:Asian Family Support Services of Austin (AFSSA)
X-ORIGINAL-URL:https://www.afssaustin.org
X-WR-CALDESC:Events for Asian Family Support Services of Austin (AFSSA)
REFRESH-INTERVAL;VALUE=DURATION:PT1H
X-Robots-Tag:noindex
X-PUBLISHED-TTL:PT1H
BEGIN:VTIMEZONE
TZID:America/Chicago
BEGIN:DAYLIGHT
TZOFFSETFROM:-0600
TZOFFSETTO:-0500
TZNAME:CDT
DTSTART:20220313T080000
END:DAYLIGHT
BEGIN:STANDARD
TZOFFSETFROM:-0500
TZOFFSETTO:-0600
TZNAME:CST
DTSTART:20221106T070000
END:STANDARD
BEGIN:DAYLIGHT
TZOFFSETFROM:-0600
TZOFFSETTO:-0500
TZNAME:CDT
DTSTART:20230312T080000
END:DAYLIGHT
BEGIN:STANDARD
TZOFFSETFROM:-0500
TZOFFSETTO:-0600
TZNAME:CST
DTSTART:20231105T070000
END:STANDARD
BEGIN:DAYLIGHT
TZOFFSETFROM:-0600
TZOFFSETTO:-0500
TZNAME:CDT
DTSTART:20240310T080000
END:DAYLIGHT
BEGIN:STANDARD
TZOFFSETFROM:-0500
TZOFFSETTO:-0600
TZNAME:CST
DTSTART:20241103T070000
END:STANDARD
END:VTIMEZONE
BEGIN:VEVENT
DTSTART;TZID=America/Chicago:20230128T070000
DTEND;TZID=America/Chicago:20230128T100000
DTSTAMP:20260425T205430
CREATED:20230126T214531Z
LAST-MODIFIED:20230126T214711Z
UID:3224-1674889200-1674900000@www.afssaustin.org
SUMMARY:AARC Lunar New Year 2023 Maker's Market
DESCRIPTION:Join AFSSA at the AARC to Celebrate the Year of the Rabbit and support local Asian American makers! Hosted at the Asian American Resource Center on January 28 from 1-4pm\, this winter’s makers market is a curated lineup of creatives\, from artists to bakers\, jewelry makers to crocheters. While browsing the market\, enjoy a nostalgia filled performance by the Asian Memory Project. Free and open to the public. Parking is limited. RSVP at the Makers Market Eventbrite page. \n  \nSchedule \n  \n\n1PM: Doors Open\n2PM-3PM: Asian Memory Project Performance\n3:45PM: Last call!\n4PM: Market ends
URL:https://www.afssaustin.org/event/aarc-lunar-new-year-2023-makers-market/
LOCATION:Asian American Resource Center (AARC)\, 8401 Cameron Rd\, Austin\, TX 78754\, Austin\, 78754
ATTACH;FMTTYPE=image/jpeg:https://www.afssaustin.org/wp-content/uploads/2023/01/AARC-LNY-Market.jpg
END:VEVENT
BEGIN:VEVENT
DTSTART;TZID=America/Chicago:20230128T130000
DTEND;TZID=America/Chicago:20230128T140000
DTSTAMP:20260425T205430
CREATED:20221216T235219Z
LAST-MODIFIED:20221216T235219Z
UID:3176-1674910800-1674914400@www.afssaustin.org
SUMMARY:Domestic Abuse & Violence Prevention Session at ICBC
DESCRIPTION:Strategies for preventing abuse\nBest solution for violence\nFirst step in violence prevention\nHow can violence be avoided or prevented\nWhat is domestic violence prevention?\nWhat is the goal of violence prevention?\n\nThe biggest benefit of domestic violence prevention is the immediacy with which it protects victims. \nPRESENTED BY: AFSSA (Asian Family Support Services of Austin) \n  \nTHIS PROGRAM IS A PART OF THE ICBC SOCIAL & CIVIC MATTERS SERIES THAT IS OFFERED ON THE FOURTH SATURDAY OF EVERY MONTH.
URL:https://www.afssaustin.org/event/domestic-abuse-violence-prevention-session-at-icbc/
LOCATION:Islamic Center of Brushy Creek\, 1950 Brushy Creek Rd.\, Cedar Park\, TX\, United States
ATTACH;FMTTYPE=image/png:https://www.afssaustin.org/wp-content/uploads/2022/09/ICBC-best-logo.png
END:VEVENT
END:VCALENDAR