BEGIN:VCALENDAR
VERSION:2.0
PRODID:-//Asian Family Support Services of Austin (AFSSA) - ECPv6.15.18//NONSGML v1.0//EN
CALSCALE:GREGORIAN
METHOD:PUBLISH
X-WR-CALNAME:Asian Family Support Services of Austin (AFSSA)
X-ORIGINAL-URL:https://www.afssaustin.org
X-WR-CALDESC:Events for Asian Family Support Services of Austin (AFSSA)
REFRESH-INTERVAL;VALUE=DURATION:PT1H
X-Robots-Tag:noindex
X-PUBLISHED-TTL:PT1H
BEGIN:VTIMEZONE
TZID:America/Chicago
BEGIN:DAYLIGHT
TZOFFSETFROM:-0600
TZOFFSETTO:-0500
TZNAME:CDT
DTSTART:20230312T080000
END:DAYLIGHT
BEGIN:STANDARD
TZOFFSETFROM:-0500
TZOFFSETTO:-0600
TZNAME:CST
DTSTART:20231105T070000
END:STANDARD
BEGIN:DAYLIGHT
TZOFFSETFROM:-0600
TZOFFSETTO:-0500
TZNAME:CDT
DTSTART:20240310T080000
END:DAYLIGHT
BEGIN:STANDARD
TZOFFSETFROM:-0500
TZOFFSETTO:-0600
TZNAME:CST
DTSTART:20241103T070000
END:STANDARD
BEGIN:DAYLIGHT
TZOFFSETFROM:-0600
TZOFFSETTO:-0500
TZNAME:CDT
DTSTART:20250309T080000
END:DAYLIGHT
BEGIN:STANDARD
TZOFFSETFROM:-0500
TZOFFSETTO:-0600
TZNAME:CST
DTSTART:20251102T070000
END:STANDARD
END:VTIMEZONE
BEGIN:VEVENT
DTSTART;TZID=America/Chicago:20240503T110000
DTEND;TZID=America/Chicago:20240503T120000
DTSTAMP:20260424T174113
CREATED:20240425T025852Z
LAST-MODIFIED:20240425T030512Z
UID:4072-1714734000-1714737600@www.afssaustin.org
SUMMARY:Bilingual Storytime @ San Marcos Public Library
DESCRIPTION:Join us at the San Marcos Public Library for children’s bilingual storytimes! We will be having two bilingual storytimes in Vietnamese & Spanish.
URL:https://www.afssaustin.org/event/bilingual-storytime-san-marcos-public-library/
LOCATION:San Marcos Public Library\, 625 E Hopkins St.\, San Marcos\, TX\, 78666\, United States
ATTACH;FMTTYPE=image/png:https://www.afssaustin.org/wp-content/uploads/2024/04/Bilingual-Storytime-Post.png
END:VEVENT
END:VCALENDAR