BEGIN:VCALENDAR
VERSION:2.0
PRODID:-//Asian Family Support Services of Austin (AFSSA) - ECPv6.15.18//NONSGML v1.0//EN
CALSCALE:GREGORIAN
METHOD:PUBLISH
X-WR-CALNAME:Asian Family Support Services of Austin (AFSSA)
X-ORIGINAL-URL:https://www.afssaustin.org
X-WR-CALDESC:Events for Asian Family Support Services of Austin (AFSSA)
REFRESH-INTERVAL;VALUE=DURATION:PT1H
X-Robots-Tag:noindex
X-PUBLISHED-TTL:PT1H
BEGIN:VTIMEZONE
TZID:America/Chicago
BEGIN:DAYLIGHT
TZOFFSETFROM:-0600
TZOFFSETTO:-0500
TZNAME:CDT
DTSTART:20230312T080000
END:DAYLIGHT
BEGIN:STANDARD
TZOFFSETFROM:-0500
TZOFFSETTO:-0600
TZNAME:CST
DTSTART:20231105T070000
END:STANDARD
BEGIN:DAYLIGHT
TZOFFSETFROM:-0600
TZOFFSETTO:-0500
TZNAME:CDT
DTSTART:20240310T080000
END:DAYLIGHT
BEGIN:STANDARD
TZOFFSETFROM:-0500
TZOFFSETTO:-0600
TZNAME:CST
DTSTART:20241103T070000
END:STANDARD
BEGIN:DAYLIGHT
TZOFFSETFROM:-0600
TZOFFSETTO:-0500
TZNAME:CDT
DTSTART:20250309T080000
END:DAYLIGHT
BEGIN:STANDARD
TZOFFSETFROM:-0500
TZOFFSETTO:-0600
TZNAME:CST
DTSTART:20251102T070000
END:STANDARD
END:VTIMEZONE
BEGIN:VEVENT
DTSTART;TZID=America/Chicago:20241004T110000
DTEND;TZID=America/Chicago:20241004T113000
DTSTAMP:20260424T032927
CREATED:20240924T231230Z
LAST-MODIFIED:20240924T231359Z
UID:4376-1728039600-1728041400@www.afssaustin.org
SUMMARY:Filipino American History Month: Tagalog Storytime @ San Marcos Public Library
DESCRIPTION:Celebrate Filipino American History Month with a Bilingual Tagalog storytime! Brought to you by Asian Family Support Services of Austin (AFSSA) and the San Marcos Public Library.
URL:https://www.afssaustin.org/event/tagalog-storytime-san-marcos-public-library/
LOCATION:San Marcos Public Library\, 625 E Hopkins St.\, San Marcos\, TX\, 78666\, United States
ATTACH;FMTTYPE=image/png:https://www.afssaustin.org/wp-content/uploads/2024/09/2.png
END:VEVENT
BEGIN:VEVENT
DTSTART;TZID=America/Chicago:20241004T133000
DTEND;TZID=America/Chicago:20241004T143000
DTSTAMP:20260424T032927
CREATED:20241003T202032Z
LAST-MODIFIED:20241003T202032Z
UID:4397-1728048600-1728052200@www.afssaustin.org
SUMMARY:Nueces Mosque Jummah
DESCRIPTION:AFSSA will be tabling at Nueces Mosque for Domestic Violence Awareness Month. Swing by and say Salaam! \nFirst Jummah\nKhateeb: Imam Zabeehullah\nKhutbah: 12:30 PM\nSalah: 12:50 PM \nSecond Jummah\nKhateeb: Imam Zabeehullah\nKhutbah: 1:30 PM\nSalah: 1:50 PM \nThird Jummah\nKhateeb: Imam Zabeehullah\nKhutbah: 2:30 PM\nSalah: 2:50 PM
URL:https://www.afssaustin.org/event/nueces-mosque-jummah/
LOCATION:Nueces Mosque\, 1906 Nueces Street\, Austin\, TX\, 78705\, United States
ATTACH;FMTTYPE=image/jpeg:https://www.afssaustin.org/wp-content/uploads/2024/10/unnamed.jpg
ORGANIZER;CN="AFSSA (Asian Family Support Services of Austin)":MAILTO:info@afssaustin.org
END:VEVENT
END:VCALENDAR