BEGIN:VCALENDAR
VERSION:2.0
PRODID:-//Asian Family Support Services of Austin (AFSSA) - ECPv6.15.18//NONSGML v1.0//EN
CALSCALE:GREGORIAN
METHOD:PUBLISH
X-WR-CALNAME:Asian Family Support Services of Austin (AFSSA)
X-ORIGINAL-URL:https://www.afssaustin.org
X-WR-CALDESC:Events for Asian Family Support Services of Austin (AFSSA)
REFRESH-INTERVAL;VALUE=DURATION:PT1H
X-Robots-Tag:noindex
X-PUBLISHED-TTL:PT1H
BEGIN:VTIMEZONE
TZID:America/Chicago
BEGIN:DAYLIGHT
TZOFFSETFROM:-0600
TZOFFSETTO:-0500
TZNAME:CDT
DTSTART:20230312T080000
END:DAYLIGHT
BEGIN:STANDARD
TZOFFSETFROM:-0500
TZOFFSETTO:-0600
TZNAME:CST
DTSTART:20231105T070000
END:STANDARD
BEGIN:DAYLIGHT
TZOFFSETFROM:-0600
TZOFFSETTO:-0500
TZNAME:CDT
DTSTART:20240310T080000
END:DAYLIGHT
BEGIN:STANDARD
TZOFFSETFROM:-0500
TZOFFSETTO:-0600
TZNAME:CST
DTSTART:20241103T070000
END:STANDARD
BEGIN:DAYLIGHT
TZOFFSETFROM:-0600
TZOFFSETTO:-0500
TZNAME:CDT
DTSTART:20250309T080000
END:DAYLIGHT
BEGIN:STANDARD
TZOFFSETFROM:-0500
TZOFFSETTO:-0600
TZNAME:CST
DTSTART:20251102T070000
END:STANDARD
END:VTIMEZONE
BEGIN:VEVENT
DTSTART;VALUE=DATE:20241012
DTEND;VALUE=DATE:20241014
DTSTAMP:20260424T034105
CREATED:20241003T212422Z
LAST-MODIFIED:20241003T212422Z
UID:4409-1728691200-1728863999@www.afssaustin.org
SUMMARY:CTBA Durga Puja 2024
DESCRIPTION:AFSSA will be tabling at Central Texas Bengali Association’s Durga Puja festival this year! This is a perfect occasion to experience the rich cultural heritage and celebrate with friends\, family\, and the entire community. Whether you’re here to pray\, perform\, or simply enjoy\, there’s something for everyone! \n? Date: Saturday 12th October – Sunday 13th October\n? Location: Murchison Middle School\, 3700 N Hills Dr\, Austin TX 78731\n⏰ Time: Saturday 9AM-9:30PM\, Sunday 9AM-6PM \n? Entry Tickets: $50-$350. Visit website for more details: Ticket Link
URL:https://www.afssaustin.org/event/ctba-durga-puja-2024/
LOCATION:Murchison Middle School\, 3700 N Hills Dr\, Austin TX 78731\, 3700 N Hills Dr\, Austin\, TX\, 78731
ATTACH;FMTTYPE=image/jpeg:https://www.afssaustin.org/wp-content/uploads/2024/10/thumbnail_DP-Event.jpg
END:VEVENT
END:VCALENDAR