BEGIN:VCALENDAR
VERSION:2.0
PRODID:-//Asian Family Support Services of Austin (AFSSA) - ECPv6.15.18//NONSGML v1.0//EN
CALSCALE:GREGORIAN
METHOD:PUBLISH
X-WR-CALNAME:Asian Family Support Services of Austin (AFSSA)
X-ORIGINAL-URL:https://www.afssaustin.org
X-WR-CALDESC:Events for Asian Family Support Services of Austin (AFSSA)
REFRESH-INTERVAL;VALUE=DURATION:PT1H
X-Robots-Tag:noindex
X-PUBLISHED-TTL:PT1H
BEGIN:VTIMEZONE
TZID:America/Chicago
BEGIN:DAYLIGHT
TZOFFSETFROM:-0600
TZOFFSETTO:-0500
TZNAME:CDT
DTSTART:20230312T080000
END:DAYLIGHT
BEGIN:STANDARD
TZOFFSETFROM:-0500
TZOFFSETTO:-0600
TZNAME:CST
DTSTART:20231105T070000
END:STANDARD
BEGIN:DAYLIGHT
TZOFFSETFROM:-0600
TZOFFSETTO:-0500
TZNAME:CDT
DTSTART:20240310T080000
END:DAYLIGHT
BEGIN:STANDARD
TZOFFSETFROM:-0500
TZOFFSETTO:-0600
TZNAME:CST
DTSTART:20241103T070000
END:STANDARD
BEGIN:DAYLIGHT
TZOFFSETFROM:-0600
TZOFFSETTO:-0500
TZNAME:CDT
DTSTART:20250309T080000
END:DAYLIGHT
BEGIN:STANDARD
TZOFFSETFROM:-0500
TZOFFSETTO:-0600
TZNAME:CST
DTSTART:20251102T070000
END:STANDARD
END:VTIMEZONE
BEGIN:VEVENT
DTSTART;TZID=America/Chicago:20241020T110000
DTEND;TZID=America/Chicago:20241020T150000
DTSTAMP:20260424T005318
CREATED:20241003T145957Z
LAST-MODIFIED:20241003T145957Z
UID:4392-1729422000-1729436400@www.afssaustin.org
SUMMARY:Roadside Ready: Autoworkshop
DESCRIPTION:Beep beep\, calling all queer women\, trans women and non-binary folks of color! ?? We know how intimidating it can be to learn new skills if you didn’t have someone in your life to teach you growing up! \nJoin us for an empowering auto workshop where you’ll learn essential car maintenance skills and do it in a safe and fun space where you can mess up\, make mistakes and try again. This workshop will be entirely hands on so that you leave fully confident to not only do it yourself\, but also to teach it to someone else you love. \nSkills we’ll be covering (may not get to all of these so we’ll try and cover as much as we can within the time frame) \n\nReplacing wipers\nChecking air and cabin air filter\nChecking + replacing oil\nJump start + replacing battery\nChecking belts\nChecking + replacing brakes\nChecking fluid levels\nChecking + replacing tires\nReplacing lightbulbs\n\nWe’ll have enough space for 15 participants so RSVP soon to secure your spot! \nWe are also so grateful to Derek\, the mechanic leading this event for offering to check out and fix minor car repairs during the workshop itself. We won’t be able to fix or address larger car issues in this workshop. \nA huge thank you to Kind Clinic for offering their space for us to do this workshop. Queer Black Women Alliance\, Pride in Black and Asian Family Support Services of Austin are so excited to collaborate together! \nWe hope this is a really supportive space to strengthen autonomy and self confidence while getting down to the grit and grime with us. \nRSVP here: https://forms.gle/LE9VBUy5rNaSGtJG8 \nWhen: Oct 20 @ 11 am-3 pm \nWhere: Kind Clinic Koenig\, 101 W Koenig Ln UNIT 100\, Austin\, TX 78751
URL:https://www.afssaustin.org/event/roadside-ready-autoworkshop/
LOCATION:Kind Clinic – Koenig\, 101 W Koenig Ln UNIT 100\, Austin\, TX\, 78751
ATTACH;FMTTYPE=image/png:https://www.afssaustin.org/wp-content/uploads/2024/10/Roadside-Ready-Queer-Black-Womens-Alliance-1.png
END:VEVENT
END:VCALENDAR