BEGIN:VCALENDAR
VERSION:2.0
PRODID:-//Asian Family Support Services of Austin (AFSSA) - ECPv6.15.18//NONSGML v1.0//EN
CALSCALE:GREGORIAN
METHOD:PUBLISH
X-ORIGINAL-URL:https://www.afssaustin.org
X-WR-CALDESC:Events for Asian Family Support Services of Austin (AFSSA)
REFRESH-INTERVAL;VALUE=DURATION:PT1H
X-Robots-Tag:noindex
X-PUBLISHED-TTL:PT1H
BEGIN:VTIMEZONE
TZID:America/Chicago
BEGIN:DAYLIGHT
TZOFFSETFROM:-0600
TZOFFSETTO:-0500
TZNAME:CDT
DTSTART:20230312T080000
END:DAYLIGHT
BEGIN:STANDARD
TZOFFSETFROM:-0500
TZOFFSETTO:-0600
TZNAME:CST
DTSTART:20231105T070000
END:STANDARD
BEGIN:DAYLIGHT
TZOFFSETFROM:-0600
TZOFFSETTO:-0500
TZNAME:CDT
DTSTART:20240310T080000
END:DAYLIGHT
BEGIN:STANDARD
TZOFFSETFROM:-0500
TZOFFSETTO:-0600
TZNAME:CST
DTSTART:20241103T070000
END:STANDARD
BEGIN:DAYLIGHT
TZOFFSETFROM:-0600
TZOFFSETTO:-0500
TZNAME:CDT
DTSTART:20250309T080000
END:DAYLIGHT
BEGIN:STANDARD
TZOFFSETFROM:-0500
TZOFFSETTO:-0600
TZNAME:CST
DTSTART:20251102T070000
END:STANDARD
END:VTIMEZONE
BEGIN:VEVENT
DTSTART;TZID=America/Chicago:20241026T140000
DTEND;TZID=America/Chicago:20241026T220000
DTSTAMP:20260424T101126
CREATED:20240828T215040Z
LAST-MODIFIED:20240828T215118Z
UID:4318-1729951200-1729980000@www.afssaustin.org
SUMMARY:Round Rock Diwali Festival
DESCRIPTION:AFSSA will be tabling this year at the Round Rock Diwali Festival! \nGrand celebration of “Diwali – The Festival of Lights” in Central Texas. Event is free and open to all. Live performances\, street food\, fashion show\, art work\, mega India bazaar\, kids activities\, rangoli competition\, and laser show. \nWhen: Saturday\, October 26\, 2024\, 2 pm to 10 pm \nWhere: 301 W. Bagdad Ave\, Round Rock\, TX\, United States\, Texas 78664
URL:https://www.afssaustin.org/event/4318/
LOCATION:Centennial Plaza\, 301 West Bagdad Avenue\, Round Rock\, TX\, 78664\, United States
END:VEVENT
END:VCALENDAR