BEGIN:VCALENDAR
VERSION:2.0
PRODID:-//Asian Family Support Services of Austin (AFSSA) - ECPv6.15.18//NONSGML v1.0//EN
CALSCALE:GREGORIAN
METHOD:PUBLISH
X-ORIGINAL-URL:https://www.afssaustin.org
X-WR-CALDESC:Events for Asian Family Support Services of Austin (AFSSA)
REFRESH-INTERVAL;VALUE=DURATION:PT1H
X-Robots-Tag:noindex
X-PUBLISHED-TTL:PT1H
BEGIN:VTIMEZONE
TZID:America/Chicago
BEGIN:DAYLIGHT
TZOFFSETFROM:-0600
TZOFFSETTO:-0500
TZNAME:CDT
DTSTART:20250309T080000
END:DAYLIGHT
BEGIN:STANDARD
TZOFFSETFROM:-0500
TZOFFSETTO:-0600
TZNAME:CST
DTSTART:20251102T070000
END:STANDARD
BEGIN:DAYLIGHT
TZOFFSETFROM:-0600
TZOFFSETTO:-0500
TZNAME:CDT
DTSTART:20260308T080000
END:DAYLIGHT
BEGIN:STANDARD
TZOFFSETFROM:-0500
TZOFFSETTO:-0600
TZNAME:CST
DTSTART:20261101T070000
END:STANDARD
BEGIN:DAYLIGHT
TZOFFSETFROM:-0600
TZOFFSETTO:-0500
TZNAME:CDT
DTSTART:20270314T080000
END:DAYLIGHT
BEGIN:STANDARD
TZOFFSETFROM:-0500
TZOFFSETTO:-0600
TZNAME:CST
DTSTART:20271107T070000
END:STANDARD
END:VTIMEZONE
BEGIN:VEVENT
DTSTART;TZID=America/Chicago:20260207T140000
DTEND;TZID=America/Chicago:20260207T150000
DTSTAMP:20260423T081551
CREATED:20260203T200549Z
LAST-MODIFIED:20260206T231521Z
UID:5113-1770472800-1770476400@www.afssaustin.org
SUMMARY:Cedar Park Public Library Lunar New Year 2026
DESCRIPTION:Get ready to welcome the Year of the Horse at the Library with Asian Family Support Services of Austin! \nJoin us in celebrating Lunar New Year with lantern riddles and crafts\, concluding with a performance from Texas Dragon/Lion Dance Team. Wear cheerful red clothes and don’t miss out on this fun experience! Activities available while supplies last. \nAll ages welcome. Children under 8 must be accompanied by an adult. Space is limited. First come\, first served.
URL:https://www.afssaustin.org/event/cedar-park-public-library-lunar-new-year-2026/
LOCATION:Cedar Park Public Library\, 550 Discovery Blvd.\, Cedar Park\, Texas\, 78613
ATTACH;FMTTYPE=image/png:https://www.afssaustin.org/wp-content/uploads/2026/02/2026-02-07-Lunar-New-Year-Celebration.png
ORGANIZER;CN="Cedar Park Public Library":MAILTO:librarypublicservices@cedarparktexas.gov
END:VEVENT
END:VCALENDAR