BEGIN:VCALENDAR
VERSION:2.0
PRODID:-//Asian Family Support Services of Austin (AFSSA) - ECPv6.15.18//NONSGML v1.0//EN
CALSCALE:GREGORIAN
METHOD:PUBLISH
X-WR-CALNAME:Asian Family Support Services of Austin (AFSSA)
X-ORIGINAL-URL:https://www.afssaustin.org
X-WR-CALDESC:Events for Asian Family Support Services of Austin (AFSSA)
REFRESH-INTERVAL;VALUE=DURATION:PT1H
X-Robots-Tag:noindex
X-PUBLISHED-TTL:PT1H
BEGIN:VTIMEZONE
TZID:America/Chicago
BEGIN:DAYLIGHT
TZOFFSETFROM:-0600
TZOFFSETTO:-0500
TZNAME:CDT
DTSTART:20250309T080000
END:DAYLIGHT
BEGIN:STANDARD
TZOFFSETFROM:-0500
TZOFFSETTO:-0600
TZNAME:CST
DTSTART:20251102T070000
END:STANDARD
BEGIN:DAYLIGHT
TZOFFSETFROM:-0600
TZOFFSETTO:-0500
TZNAME:CDT
DTSTART:20260308T080000
END:DAYLIGHT
BEGIN:STANDARD
TZOFFSETFROM:-0500
TZOFFSETTO:-0600
TZNAME:CST
DTSTART:20261101T070000
END:STANDARD
BEGIN:DAYLIGHT
TZOFFSETFROM:-0600
TZOFFSETTO:-0500
TZNAME:CDT
DTSTART:20270314T080000
END:DAYLIGHT
BEGIN:STANDARD
TZOFFSETFROM:-0500
TZOFFSETTO:-0600
TZNAME:CST
DTSTART:20271107T070000
END:STANDARD
END:VTIMEZONE
BEGIN:VEVENT
DTSTART;TZID=America/Chicago:20260307T090000
DTEND;TZID=America/Chicago:20260307T130000
DTSTAMP:20260423T042419
CREATED:20260304T183807Z
LAST-MODIFIED:20260304T183921Z
UID:5147-1772874000-1772888400@www.afssaustin.org
SUMMARY:Bastrop Co Cares Fatherhood Summit
DESCRIPTION:The 3rd Annual Bastrop County Fatherhood Summit is a community-centered initiative designed to strengthen families by equipping fathers and father figures with the tools\, knowledge\, and support needed to thrive in their parenting roles. Hosted by Bastrop County Cares in partnership with Celebration Community Church\, this summit brings together fathers\, community leaders\, service providers\, and advocates to promote positive father engagement\, enhance parenting skills\, and foster healthy family relationships throughout Bastrop County. \nAFSSA will be attending and tabling at the Bastrop Co Cares Fatherhood Summit\, come out to see us! \nEvent Date: Saturday\, March 7th\, 2026 \nEvent Time: 9:00 am – 1:00 pm \nEvent Address: 287 FM 20 Bastrop\, TX 78602 \n 
URL:https://www.afssaustin.org/event/bastrop-co-cares-fatherhood-summit/
LOCATION:287 FM 20 Bastrop\, TX 78602\, 287 FM 20\, Bastrop\, TX\, 89602\, United States
ORGANIZER;CN="Bastrop County Cares":MAILTO:Communications@bastropcares.org
END:VEVENT
END:VCALENDAR