BEGIN:VCALENDAR
VERSION:2.0
PRODID:-//Asian Family Support Services of Austin (AFSSA) - ECPv6.15.18//NONSGML v1.0//EN
CALSCALE:GREGORIAN
METHOD:PUBLISH
X-ORIGINAL-URL:https://www.afssaustin.org
X-WR-CALDESC:Events for Asian Family Support Services of Austin (AFSSA)
REFRESH-INTERVAL;VALUE=DURATION:PT1H
X-Robots-Tag:noindex
X-PUBLISHED-TTL:PT1H
BEGIN:VTIMEZONE
TZID:America/Chicago
BEGIN:DAYLIGHT
TZOFFSETFROM:-0600
TZOFFSETTO:-0500
TZNAME:CDT
DTSTART:20250309T080000
END:DAYLIGHT
BEGIN:STANDARD
TZOFFSETFROM:-0500
TZOFFSETTO:-0600
TZNAME:CST
DTSTART:20251102T070000
END:STANDARD
BEGIN:DAYLIGHT
TZOFFSETFROM:-0600
TZOFFSETTO:-0500
TZNAME:CDT
DTSTART:20260308T080000
END:DAYLIGHT
BEGIN:STANDARD
TZOFFSETFROM:-0500
TZOFFSETTO:-0600
TZNAME:CST
DTSTART:20261101T070000
END:STANDARD
BEGIN:DAYLIGHT
TZOFFSETFROM:-0600
TZOFFSETTO:-0500
TZNAME:CDT
DTSTART:20270314T080000
END:DAYLIGHT
BEGIN:STANDARD
TZOFFSETFROM:-0500
TZOFFSETTO:-0600
TZNAME:CST
DTSTART:20271107T070000
END:STANDARD
END:VTIMEZONE
BEGIN:VEVENT
DTSTART;TZID=America/Chicago:20260418T110000
DTEND;TZID=America/Chicago:20260418T153000
DTSTAMP:20260423T002036
CREATED:20260409T212810Z
LAST-MODIFIED:20260409T212810Z
UID:5181-1776510000-1776526200@www.afssaustin.org
SUMMARY:Springfest 2026
DESCRIPTION:AFSSA will be tabling at Springfest. Springfest is a family-friendly festival in the park\, celebrating National Child Abuse Prevention Month!\nJoin the Children’s Advocacy Center and CASA\, Serving Bastrop\, Lee and Fayette Counties at Fisherman’s Park on Saturday\, April 18\, 2026 for a day of fun! You’ll enjoy a kid’s play zone\, food trucks\, music\, games\, a chance to meet area first responders\, medical professionals\, educators\, nonprofits\, and much more!\nThere will be many organizations reaching out to the community to help children get to know their trusted adults\, and for everyone to learn how to recognize and fight child abuse.\nThis is a free event\, and open to the public!\n Date: Saturday\, April 18th\, 2026 \n Time: 11 AM-3:30 PM \n Location: Fisherman’s Park\, 1200 Wilson St\, Bastrop\, TX 78602
URL:https://www.afssaustin.org/event/springfest-2026/
LOCATION:Fisherman’s Park\, 1200 Willow Street\, Bastrop\, TX\, 78602\, United States
ORGANIZER;CN="Bastrop Children's Advocacy Center":MAILTO:info@CACBastrop.org
END:VEVENT
END:VCALENDAR