BEGIN:VCALENDAR
VERSION:2.0
PRODID:-//Asian Family Support Services of Austin (AFSSA) - ECPv6.15.18//NONSGML v1.0//EN
CALSCALE:GREGORIAN
METHOD:PUBLISH
X-WR-CALNAME:Asian Family Support Services of Austin (AFSSA)
X-ORIGINAL-URL:https://www.afssaustin.org
X-WR-CALDESC:Events for Asian Family Support Services of Austin (AFSSA)
REFRESH-INTERVAL;VALUE=DURATION:PT1H
X-Robots-Tag:noindex
X-PUBLISHED-TTL:PT1H
BEGIN:VTIMEZONE
TZID:America/Chicago
BEGIN:DAYLIGHT
TZOFFSETFROM:-0600
TZOFFSETTO:-0500
TZNAME:CDT
DTSTART:20240310T080000
END:DAYLIGHT
BEGIN:STANDARD
TZOFFSETFROM:-0500
TZOFFSETTO:-0600
TZNAME:CST
DTSTART:20241103T070000
END:STANDARD
BEGIN:DAYLIGHT
TZOFFSETFROM:-0600
TZOFFSETTO:-0500
TZNAME:CDT
DTSTART:20250309T080000
END:DAYLIGHT
BEGIN:STANDARD
TZOFFSETFROM:-0500
TZOFFSETTO:-0600
TZNAME:CST
DTSTART:20251102T070000
END:STANDARD
BEGIN:DAYLIGHT
TZOFFSETFROM:-0600
TZOFFSETTO:-0500
TZNAME:CDT
DTSTART:20260308T080000
END:DAYLIGHT
BEGIN:STANDARD
TZOFFSETFROM:-0500
TZOFFSETTO:-0600
TZNAME:CST
DTSTART:20261101T070000
END:STANDARD
END:VTIMEZONE
BEGIN:VEVENT
DTSTART;TZID=America/Chicago:20250401T173000
DTEND;TZID=America/Chicago:20250401T183000
DTSTAMP:20260424T082905
CREATED:20250113T220832Z
LAST-MODIFIED:20250113T220832Z
UID:4484-1743528600-1743532200@www.afssaustin.org
SUMMARY:AFSSA Volunteer Info Session
DESCRIPTION:Are you interested in volunteering? Join our upcoming AFSSA Volunteer Info Session\, where we’ll be briefly introducing AFSSA’s services\, talking about potential volunteer opportunities\, and covering the next steps to becoming an AFSSA volunteer. If you have any questions\, please feel free to email us at volunteer@afssaustin.org! \nAttend: https://us02web.zoom.us/j/2240209375
URL:https://www.afssaustin.org/event/afssa-volunteer-info-session-9/
LOCATION:TX
ORGANIZER;CN="AFSSA (Asian Family Support Services of Austin)":MAILTO:info@afssaustin.org
END:VEVENT
BEGIN:VEVENT
DTSTART;TZID=America/Chicago:20250403T190000
DTEND;TZID=America/Chicago:20250403T203000
DTSTAMP:20260424T082905
CREATED:20250401T175302Z
LAST-MODIFIED:20250401T175302Z
UID:4669-1743706800-1743712200@www.afssaustin.org
SUMMARY:"Gender Based Violence in Asian Communities" - (un)jaded x AFSSA Collab Workshop
DESCRIPTION:Join Asian Family Support Services of Austin and (un)jaded for a workshop exploring relationship dynamics\, sexualization\, and misogyny affecting Asian American women\, femmes\, and queer folks. Location: Parlin Hall Room 302\, UT Austin Campus
URL:https://www.afssaustin.org/event/gender-based-violence-in-asian-communities-unjaded-x-afssa-collab-workshop/
LOCATION:Parlin Hall\, Room 302\, 208 W 21st St\, Austin\, TX\, 78705\, United States
ATTACH;FMTTYPE=image/png:https://www.afssaustin.org/wp-content/uploads/2025/04/4-3-Gender-Based-Violence-1.png
END:VEVENT
BEGIN:VEVENT
DTSTART;TZID=America/Chicago:20250405T110000
DTEND;TZID=America/Chicago:20250405T140000
DTSTAMP:20260424T082905
CREATED:20250313T165853Z
LAST-MODIFIED:20250313T165853Z
UID:4639-1743850800-1743861600@www.afssaustin.org
SUMMARY:4th Annual Mueller Eid Celebration
DESCRIPTION:Join us in celebrating Eid at at the Mueller Neighborhood Association’s fourth annual Eid Celebration! This family-friendly event features free henna\, balloon twisting\, kids’ story time\, and local vendors such as SA Food Affair\, Altair\, Urthy Eats\, Modestique\, Goat in A Coat and many others.
URL:https://www.afssaustin.org/event/4th-annual-mueller-eid-celebration/
LOCATION:Branch Park Pavilion\, 2006 Philomena Street\, Austin
ATTACH;FMTTYPE=image/jpeg:https://www.afssaustin.org/wp-content/uploads/2025/03/2025-Mueller-Eid.jpg
END:VEVENT
BEGIN:VEVENT
DTSTART;TZID=America/Chicago:20250413T100000
DTEND;TZID=America/Chicago:20250413T160000
DTSTAMP:20260424T082905
CREATED:20250314T160917Z
LAST-MODIFIED:20250314T160917Z
UID:4642-1744538400-1744560000@www.afssaustin.org
SUMMARY:Thai Fresh Thai New Year Celebration
DESCRIPTION:In the Thai New Year\, also called Songkran\, water is used as a symbolic act of cleansing and renewal\, representing the washing away of negativity from the past year to welcome a fresh start with the new year. \nWe’ll be tabling with other wonderful AAPI vendors!
URL:https://www.afssaustin.org/event/thai-fresh-thai-new-year-celebration/
LOCATION:Thai Fresh\, 909 W Mary St\, Austin\, Texas\, 78704
ATTACH;FMTTYPE=image/png:https://www.afssaustin.org/wp-content/uploads/2025/03/Screenshot-2025-03-14-at-11.04.31 AM.png
END:VEVENT
BEGIN:VEVENT
DTSTART;TZID=America/Chicago:20250416T190000
DTEND;TZID=America/Chicago:20250416T230000
DTSTAMP:20260424T082905
CREATED:20250401T173719Z
LAST-MODIFIED:20250401T173719Z
UID:4665-1744830000-1744844400@www.afssaustin.org
SUMMARY:"Turning Red" Movie Screening with AFSSA and Hyperreal Film Club
DESCRIPTION:AFSSA is excited to come on as a community partner for a special screening of Pixar’s “Turning Red”\, presented by Hyperreal Film Club! More information can be found on Hyperreal Film Club’s website. Doors at 7pm\, movie at 7:30pm. \nA thirteen-year-old girl named Mei Lee is torn between staying her mother’s dutiful daughter and the changes of adolescence. And as if the challenges were not enough\, whenever she gets overly excited Mei transforms into a giant red panda.
URL:https://www.afssaustin.org/event/turning-red-movie-screening-with-afssa-and-hyperreal-film-club/
LOCATION:Hyperreal Film Club\, 301 Chicon St\, Austin\, TX\, 78702\, United States
ATTACH;FMTTYPE=image/png:https://www.afssaustin.org/wp-content/uploads/2025/04/turningred.png
END:VEVENT
BEGIN:VEVENT
DTSTART;TZID=America/Chicago:20250417T090000
DTEND;TZID=America/Chicago:20250417T130000
DTSTAMP:20260424T082905
CREATED:20250217T192802Z
LAST-MODIFIED:20250217T192802Z
UID:4598-1744880400-1744894800@www.afssaustin.org
SUMMARY:"Silver Swan" AAPI Market\, Hosted by TXST Alpha Sigma Rho Sorority
DESCRIPTION:In collaboration with the Multicultural Greek Council\, Alpha Sigma Rho Mu Associate Chapter presents our Silver Swan Market. ✨ \nA market of AAPI voices and business on the LBJ mall\, Thursday April 17th from 9am-1pm\, to showcase Asian owned businesses and services in the community. More information to come!
URL:https://www.afssaustin.org/event/silver-swan-aapi-market-hosted-by-txst-alpha-sigma-rho-sorority/
LOCATION:TXST LBJ Mall\, 301 Student Center Dr\, San Marcos\, TX\, 78666\, United States
END:VEVENT
BEGIN:VEVENT
DTSTART;TZID=America/Chicago:20250418T120000
DTEND;TZID=America/Chicago:20250418T130000
DTSTAMP:20260424T082905
CREATED:20250113T220337Z
LAST-MODIFIED:20250113T220337Z
UID:4474-1744977600-1744981200@www.afssaustin.org
SUMMARY:AFSSA Volunteer Info Session
DESCRIPTION:Are you interested in volunteering? Join our upcoming AFSSA Volunteer Info Session\, where we’ll be briefly introducing AFSSA’s services\, talking about potential volunteer opportunities\, and covering the next steps to becoming an AFSSA volunteer. If you have any questions\, please feel free to email us at volunteer@afssaustin.org! \nAttend: https://us02web.zoom.us/j/2240209375
URL:https://www.afssaustin.org/event/afssa-volunteer-info-session-4/
LOCATION:TX
ORGANIZER;CN="AFSSA (Asian Family Support Services of Austin)":MAILTO:info@afssaustin.org
END:VEVENT
BEGIN:VEVENT
DTSTART;TZID=America/Chicago:20250425T170000
DTEND;TZID=America/Chicago:20250425T200000
DTSTAMP:20260424T082905
CREATED:20250401T180508Z
LAST-MODIFIED:20250401T180508Z
UID:4675-1745600400-1745611200@www.afssaustin.org
SUMMARY:Silk Club ATX - QUIET! 14 Release Party
DESCRIPTION:Silk Club is an organization for Austin-based self-identified Asian American women and LGBTQIA individuals to collaborate on projects that celebrate our experience. Our bi-annual project is called QUIET!: a zine that features photography\, writing\, art\, design\, and other creative works about Asian and Asian American experience. \nThe QUIET! 14 Release Party itself is hosted in order to give creatives that contributed to the zine as well as creatives in the greater UT Austin and Austin community a chance to showcase their art forms and pieces in a safe and empowering environment. \nAFSSA will have a resource table present at this event!
URL:https://www.afssaustin.org/event/silk-club-atx-quiet-14-release-party/
LOCATION:The Butterfly Bar\, 2307 Manor Rd\, Austin\, TX\, 78722\, United States
END:VEVENT
BEGIN:VEVENT
DTSTART;TZID=America/Chicago:20250426T173000
DTEND;TZID=America/Chicago:20250426T193000
DTSTAMP:20260424T082905
CREATED:20250401T144125Z
LAST-MODIFIED:20250401T144125Z
UID:4661-1745688600-1745695800@www.afssaustin.org
SUMMARY:Children's Day in Hutto
DESCRIPTION:April is child literacy and child abuse month. We are hoping to bring more awareness to the importance of family support and learning. There will be child friendly evens such as K9 show\, goats\, face paint\, bounce houses\, food trucks\, and even a movie in the park show.\n\nDate: Saturday\, April 26\, 2025 \nTime: 5:30 pm – 7:30 pm \nWhere: Adam Orgain Park\, 1001 Co Rd 137\, Hutto\, TX 78634
URL:https://www.afssaustin.org/event/childrens-day-in-hutto/
LOCATION:Adam Orgain Park\, 1001 Co Rd 137\, Hutto\, TX\, 78634\, United States
END:VEVENT
END:VCALENDAR