BEGIN:VCALENDAR
VERSION:2.0
PRODID:-//Asian Family Support Services of Austin (AFSSA) - ECPv6.15.18//NONSGML v1.0//EN
CALSCALE:GREGORIAN
METHOD:PUBLISH
X-ORIGINAL-URL:https://www.afssaustin.org
X-WR-CALDESC:Events for Asian Family Support Services of Austin (AFSSA)
REFRESH-INTERVAL;VALUE=DURATION:PT1H
X-Robots-Tag:noindex
X-PUBLISHED-TTL:PT1H
BEGIN:VTIMEZONE
TZID:America/Chicago
BEGIN:DAYLIGHT
TZOFFSETFROM:-0600
TZOFFSETTO:-0500
TZNAME:CDT
DTSTART:20240310T080000
END:DAYLIGHT
BEGIN:STANDARD
TZOFFSETFROM:-0500
TZOFFSETTO:-0600
TZNAME:CST
DTSTART:20241103T070000
END:STANDARD
BEGIN:DAYLIGHT
TZOFFSETFROM:-0600
TZOFFSETTO:-0500
TZNAME:CDT
DTSTART:20250309T080000
END:DAYLIGHT
BEGIN:STANDARD
TZOFFSETFROM:-0500
TZOFFSETTO:-0600
TZNAME:CST
DTSTART:20251102T070000
END:STANDARD
BEGIN:DAYLIGHT
TZOFFSETFROM:-0600
TZOFFSETTO:-0500
TZNAME:CDT
DTSTART:20260308T080000
END:DAYLIGHT
BEGIN:STANDARD
TZOFFSETFROM:-0500
TZOFFSETTO:-0600
TZNAME:CST
DTSTART:20261101T070000
END:STANDARD
END:VTIMEZONE
BEGIN:VEVENT
DTSTART;TZID=America/Chicago:20250503T110000
DTEND;TZID=America/Chicago:20250503T150000
DTSTAMP:20260424T071236
CREATED:20250324T160253Z
LAST-MODIFIED:20250324T160253Z
UID:4653-1746270000-1746284400@www.afssaustin.org
SUMMARY:AARC CelebrASIA
DESCRIPTION:AARC is hosting their annual CelebrASIA Austin event\, featuring performances\, art\, culture\, food\, and more! \nThis free\, family-friendly festival will take place at the AARC at 8401 Cameron Road during Asian Pacific American Heritage Month on Saturday\, May 3\, 2025 from 11am to 3pm. \nWe’re super excited to see you there!
URL:https://www.afssaustin.org/event/aarc-celebrasia/
LOCATION:Asian American Resource Center (AARC)\, 8401 Cameron Rd\, Austin\, TX 78754\, Austin\, 78754
ATTACH;FMTTYPE=image/png:https://www.afssaustin.org/wp-content/uploads/2025/03/Screenshot-2025-03-24-at-10.59.14 AM.png
END:VEVENT
BEGIN:VEVENT
DTSTART;TZID=America/Chicago:20250503T140000
DTEND;TZID=America/Chicago:20250503T143000
DTSTAMP:20260424T071236
CREATED:20250327T182950Z
LAST-MODIFIED:20250327T182950Z
UID:4657-1746280800-1746282600@www.afssaustin.org
SUMMARY:Korean Bilingual Storytime @ Cedar Park Public Library
DESCRIPTION:Listen and sing in this fun storytime in English and Korean presented by Asian Family Support Services of Austin. Also\, meet local author\, Irene Kang! Bilingual Storytime is primarily for caregivers and children ages 0-5\, but all children and speakers of all languages are welcome. Space is limited\, first come\, first served.
URL:https://www.afssaustin.org/event/korean-bilingual-storytime-cedar-park-public-library/
LOCATION:Cedar Park Public Library\, 550 Discovery Blvd.\, Cedar Park\, Texas\, 78613
ATTACH;FMTTYPE=image/png:https://www.afssaustin.org/wp-content/uploads/2025/03/Bilingual-Storytime-53.png
ORGANIZER;CN="Cedar Park Public Library":MAILTO:librarypublicservices@cedarparktexas.gov
END:VEVENT
BEGIN:VEVENT
DTSTART;TZID=America/Chicago:20250506T173000
DTEND;TZID=America/Chicago:20250506T183000
DTSTAMP:20260424T071236
CREATED:20250113T220935Z
LAST-MODIFIED:20250113T220935Z
UID:4486-1746552600-1746556200@www.afssaustin.org
SUMMARY:AFSSA Volunteer Info Session
DESCRIPTION:Are you interested in volunteering? Join our upcoming AFSSA Volunteer Info Session\, where we’ll be briefly introducing AFSSA’s services\, talking about potential volunteer opportunities\, and covering the next steps to becoming an AFSSA volunteer. If you have any questions\, please feel free to email us at volunteer@afssaustin.org! \nAttend: https://us02web.zoom.us/j/2240209375
URL:https://www.afssaustin.org/event/afssa-volunteer-info-session-10/
LOCATION:TX
ORGANIZER;CN="AFSSA (Asian Family Support Services of Austin)":MAILTO:info@afssaustin.org
END:VEVENT
BEGIN:VEVENT
DTSTART;TZID=America/Chicago:20250509T150000
DTEND;TZID=America/Chicago:20250509T190000
DTSTAMP:20260424T071236
CREATED:20250508T162928Z
LAST-MODIFIED:20250508T162928Z
UID:4760-1746802800-1746817200@www.afssaustin.org
SUMMARY:Austin AAPI Professional Summit
DESCRIPTION:AFSSA will be tabling at the Austin AAPI Professional Summit! Austin’s AAPI professionals are coming together for an afternoon of networking\, professional development\, and community building. This is your opportunity to connect with industry leaders\, gain valuable insights\, and be part of a movement advancing AAPI representation in the workforce. \n? Date: May 9\, 2025\n? Location: ACC Highland Campus\n? Register now: https://bit.ly/aaps2025
URL:https://www.afssaustin.org/event/austin-aapi-professional-summit/
LOCATION:TX
ATTACH;FMTTYPE=image/jpeg:https://www.afssaustin.org/wp-content/uploads/2025/05/AAPS-Instagram-Branding-Graphic.jpg
END:VEVENT
BEGIN:VEVENT
DTSTART;TZID=America/Chicago:20250510T120000
DTEND;TZID=America/Chicago:20250510T180000
DTSTAMP:20260424T071236
CREATED:20250507T171412Z
LAST-MODIFIED:20250507T171412Z
UID:4743-1746878400-1746900000@www.afssaustin.org
SUMMARY:Central Texas Asian Pacific Festival
DESCRIPTION:Come out and enjoy the day of cultural food\, performances and vendors in Downtown Killeen. \nThis festival brings the taste of Asian and Pacific cultures\, including clothing\, music from various groups belonging to the AAPI community and much more. \nThis event is hosted by ACT Pasifika in partnership with the City of Killeen.
URL:https://www.afssaustin.org/event/central-texas-asian-pacific-festival/
LOCATION:Downtown Killeen\, East Ave D & Gray St\, Killeen\, TX\, United States
ATTACH;FMTTYPE=image/jpeg:https://www.afssaustin.org/wp-content/uploads/2025/05/central-texas-asian-pacific.jpg
END:VEVENT
BEGIN:VEVENT
DTSTART;TZID=America/Chicago:20250516T120000
DTEND;TZID=America/Chicago:20250516T130000
DTSTAMP:20260424T071236
CREATED:20250113T220423Z
LAST-MODIFIED:20250113T220423Z
UID:4476-1747396800-1747400400@www.afssaustin.org
SUMMARY:AFSSA Volunteer Info Session
DESCRIPTION:Are you interested in volunteering? Join our upcoming AFSSA Volunteer Info Session\, where we’ll be briefly introducing AFSSA’s services\, talking about potential volunteer opportunities\, and covering the next steps to becoming an AFSSA volunteer. If you have any questions\, please feel free to email us at volunteer@afssaustin.org! \nAttend: https://us02web.zoom.us/j/2240209375
URL:https://www.afssaustin.org/event/afssa-volunteer-info-session-5/
LOCATION:TX
ORGANIZER;CN="AFSSA (Asian Family Support Services of Austin)":MAILTO:info@afssaustin.org
END:VEVENT
BEGIN:VEVENT
DTSTART;TZID=America/Chicago:20250518T180000
DTEND;TZID=America/Chicago:20250518T200000
DTSTAMP:20260424T071236
CREATED:20250505T194505Z
LAST-MODIFIED:20250505T194730Z
UID:4730-1747591200-1747598400@www.afssaustin.org
SUMMARY:AFSSA HIV Resource Fair
DESCRIPTION:In celebration of AAPI Month and National Asian & Pacific Islander HIV/AIDS Awareness Day\, @cheerupcharlies is so excited to announce its Asian Pride Drag Show ?‍♀️❤️‍? \nWhen: Sunday\, May 18th from 6-8 PM\nWhere: Cheer Up Charlies\, 900 Red River St\, Austin\, TX 78701 \nRSVP here: https://forms.office.com/r/qQHwHmzTjq \n?️: 18+ event \nThe HIV Resource Fair features wonderful community partners that offer life-saving and affirming services here in Austin. As an organization that serves survivors of violence and abuse in Central TX\, AFSSA doesn’t do this work alone\, and we hope this event is a space that community can come together to be informed and celebrate the ways we show up for one another. \nThank you so much to @kindclinic for providing mobile STI and HIV testing services for the event and making this event possible. This would not have been possible without them! \n? Our fantastic lineup of drag performers:\n@miss_petty_cakes\n@missrachelslur\n@lotion.tn \nFollow them and make sure to bring bills to show your support! ? \nWe will announce all the community partners + spotlights on each performer in the coming month so keep an eye out! \nSEE YOU THERE ?
URL:https://www.afssaustin.org/event/afssa-hiv-resource-fair/
LOCATION:Cheer Up Charlies\, 900 Red River St\, Austin\, Texas\, 78701
ATTACH;FMTTYPE=image/png:https://www.afssaustin.org/wp-content/uploads/2025/05/Screenshot-2025-05-05-at-2.42.34 PM.png
ORGANIZER;CN="AFSSA (Asian Family Support Services of Austin)":MAILTO:info@afssaustin.org
END:VEVENT
BEGIN:VEVENT
DTSTART;TZID=America/Chicago:20250530T173000
DTEND;TZID=America/Chicago:20250530T193000
DTSTAMP:20260424T071236
CREATED:20250506T141013Z
LAST-MODIFIED:20250506T141013Z
UID:4736-1748626200-1748633400@www.afssaustin.org
SUMMARY:Summer Reading Kick-Off Party @ Buda City Park
DESCRIPTION:Join the library in celebrating the start of summer and the Summer Reading Program! Enjoy fun for the whole family including art projects\, foam mania with Big Time Bubbles\, Touch-a-Truck with PD and more! We recommend you bring a towel and your swim suit! Thank you to our friends at Ally Medical ER in Buda for helping sponsor at this event!\n\n\n\nBring your bikes and break in our new Onion Creek Trail at 7pm with a ribbon cutting for the Onion Creek/Garlic Creek Trail and Bike Rodeo in the North Parking Lot.\n\n\n\nThis event kicks off with a Sensory-Sensitive Friendly time from 5:00-5:30 pm. We invite families with sensory-sensitive members to attend!\n\n\n\nThis event takes place at Buda City Park located at 204 San Antonio St.
URL:https://www.afssaustin.org/event/summer-reading-kick-off-party-buda-city-park/
LOCATION:Buda City Park\, 204 San Antonio St.\, Buda\, TX\, 78701\, United States
ATTACH;FMTTYPE=image/jpeg:https://www.afssaustin.org/wp-content/uploads/2025/05/494580569_1108877191277253_73768773626082690_n.jpg
END:VEVENT
END:VCALENDAR