BEGIN:VCALENDAR
VERSION:2.0
PRODID:-//Asian Family Support Services of Austin (AFSSA) - ECPv6.15.18//NONSGML v1.0//EN
CALSCALE:GREGORIAN
METHOD:PUBLISH
X-ORIGINAL-URL:https://www.afssaustin.org
X-WR-CALDESC:Events for Asian Family Support Services of Austin (AFSSA)
REFRESH-INTERVAL;VALUE=DURATION:PT1H
X-Robots-Tag:noindex
X-PUBLISHED-TTL:PT1H
BEGIN:VTIMEZONE
TZID:America/Chicago
BEGIN:DAYLIGHT
TZOFFSETFROM:-0600
TZOFFSETTO:-0500
TZNAME:CDT
DTSTART:20250309T080000
END:DAYLIGHT
BEGIN:STANDARD
TZOFFSETFROM:-0500
TZOFFSETTO:-0600
TZNAME:CST
DTSTART:20251102T070000
END:STANDARD
BEGIN:DAYLIGHT
TZOFFSETFROM:-0600
TZOFFSETTO:-0500
TZNAME:CDT
DTSTART:20260308T080000
END:DAYLIGHT
BEGIN:STANDARD
TZOFFSETFROM:-0500
TZOFFSETTO:-0600
TZNAME:CST
DTSTART:20261101T070000
END:STANDARD
BEGIN:DAYLIGHT
TZOFFSETFROM:-0600
TZOFFSETTO:-0500
TZNAME:CDT
DTSTART:20270314T080000
END:DAYLIGHT
BEGIN:STANDARD
TZOFFSETFROM:-0500
TZOFFSETTO:-0600
TZNAME:CST
DTSTART:20271107T070000
END:STANDARD
END:VTIMEZONE
BEGIN:VEVENT
DTSTART;TZID=America/Chicago:20260106T173000
DTEND;TZID=America/Chicago:20260106T183000
DTSTAMP:20260423T111301
CREATED:20251119T194738Z
LAST-MODIFIED:20251119T194738Z
UID:4968-1767720600-1767724200@www.afssaustin.org
SUMMARY:Volunteer Info Session
DESCRIPTION:Are you interested in becoming an AFSSA volunteer? \nJoin our virtual Volunteer Info Session\, where we’ll briefly introduce AFSSA’s services\, talk about potential volunteer opportunities\, and introduce the volunteer application and requirements. Attending a Volunteer Info Session is the first step for becoming a part of our volunteer team! \nIf you have any questions\, please feel free to email us at volunteer@afssaustin.org! \nLink to Attend: https://us02web.zoom.us/j/2240209375 
URL:https://www.afssaustin.org/event/volunteer-info-session-5/
LOCATION:Zoom
ORGANIZER;CN="AFSSA (Asian Family Support Services of Austin)":MAILTO:info@afssaustin.org
END:VEVENT
BEGIN:VEVENT
DTSTART;TZID=America/Chicago:20260116T100000
DTEND;TZID=America/Chicago:20260116T140000
DTSTAMP:20260423T111301
CREATED:20260108T200322Z
LAST-MODIFIED:20260108T200322Z
UID:5010-1768557600-1768572000@www.afssaustin.org
SUMMARY:International Student Orientation and Resource Fair
DESCRIPTION:AFSSA will be tabling at this event from 12 pm – 2 pm. Feel free to come check us out and get some merch!
URL:https://www.afssaustin.org/event/international-student-orientation-and-resource-fair/
LOCATION:ACC – Highland Campus\, 6101 Highland Campus Drive\, Austin\, TX\, 78752\, United States
END:VEVENT
BEGIN:VEVENT
DTSTART;TZID=America/Chicago:20260119T193000
DTEND;TZID=America/Chicago:20260119T203000
DTSTAMP:20260423T111301
CREATED:20260108T194357Z
LAST-MODIFIED:20260108T194357Z
UID:5005-1768851000-1768854600@www.afssaustin.org
SUMMARY:All-Women's Restorative Yoga with Deenah
DESCRIPTION:✨ Evening Yoga Flow ✨ \nEscape the weekday rush—dinner served\, kids fed\, and work behind you—and step into a serene\, candlelit space where the world slows down. \nJoin AFSSA and Noor Collective for an evening yoga flow led by certified instructor Deenah\, designed to stretch your body\, melt away tension\, and quiet the mind. Think of it as your midweek retreat—no travel needed\, just you\, your breath\, and deep restoration. \n🌙 Whether you’re new to yoga or a seasoned practitioner\, this is your time to move with intention\, breathe deeply\, and transition from the noise of the day into the quiet of the night. \nYOGA MATS provided \n🕯 Come as you are. Leave feeling grounded and restored.
URL:https://www.afssaustin.org/event/all-womens-restorative-yoga-with-deenah/
LOCATION:Sol Healing and Wellness Center\, 13805 Ann Pl\, Austin\, 78728
ATTACH;FMTTYPE=image/jpeg:https://www.afssaustin.org/wp-content/uploads/2026/01/yoga.jpg
END:VEVENT
BEGIN:VEVENT
DTSTART;TZID=America/Chicago:20260123T120000
DTEND;TZID=America/Chicago:20260123T130000
DTSTAMP:20260423T111301
CREATED:20251119T194957Z
LAST-MODIFIED:20251119T194957Z
UID:4970-1769169600-1769173200@www.afssaustin.org
SUMMARY:Volunteer Info Session
DESCRIPTION:Are you interested in becoming an AFSSA volunteer? \nJoin our virtual Volunteer Info Session\, where we’ll briefly introduce AFSSA’s services\, talk about potential volunteer opportunities\, and introduce the volunteer application and requirements. Attending a Volunteer Info Session is the first step for becoming a part of our volunteer team! \nIf you have any questions\, please feel free to email us at volunteer@afssaustin.org! \nLink to Attend: https://us02web.zoom.us/j/2240209375
URL:https://www.afssaustin.org/event/volunteer-info-session-9/
LOCATION:Zoom
ORGANIZER;CN="AFSSA (Asian Family Support Services of Austin)":MAILTO:info@afssaustin.org
END:VEVENT
END:VCALENDAR